BEGIN:VCALENDAR
VERSION:2.0
PRODID:-//Brackenridge Park Conservancy - ECPv6.15.20//NONSGML v1.0//EN
CALSCALE:GREGORIAN
METHOD:PUBLISH
X-WR-CALNAME:Brackenridge Park Conservancy
X-ORIGINAL-URL:https://brackenridgepark.org
X-WR-CALDESC:Events for Brackenridge Park Conservancy
REFRESH-INTERVAL;VALUE=DURATION:PT1H
X-Robots-Tag:noindex
X-PUBLISHED-TTL:PT1H
BEGIN:VTIMEZONE
TZID:America/Chicago
BEGIN:DAYLIGHT
TZOFFSETFROM:-0600
TZOFFSETTO:-0500
TZNAME:CDT
DTSTART:20250309T080000
END:DAYLIGHT
BEGIN:STANDARD
TZOFFSETFROM:-0500
TZOFFSETTO:-0600
TZNAME:CST
DTSTART:20251102T070000
END:STANDARD
BEGIN:DAYLIGHT
TZOFFSETFROM:-0600
TZOFFSETTO:-0500
TZNAME:CDT
DTSTART:20260308T080000
END:DAYLIGHT
BEGIN:STANDARD
TZOFFSETFROM:-0500
TZOFFSETTO:-0600
TZNAME:CST
DTSTART:20261101T070000
END:STANDARD
BEGIN:DAYLIGHT
TZOFFSETFROM:-0600
TZOFFSETTO:-0500
TZNAME:CDT
DTSTART:20270314T080000
END:DAYLIGHT
BEGIN:STANDARD
TZOFFSETFROM:-0500
TZOFFSETTO:-0600
TZNAME:CST
DTSTART:20271107T070000
END:STANDARD
END:VTIMEZONE
BEGIN:VEVENT
DTSTART;TZID=America/Chicago:20260110T100000
DTEND;TZID=America/Chicago:20260110T120000
DTSTAMP:20260421T033858
CREATED:20260105T230637Z
LAST-MODIFIED:20260105T230711Z
UID:10000431-1768039200-1768046400@brackenridgepark.org
SUMMARY:Volunteer Day - Avenue B Litter Cleanup
DESCRIPTION:Join us for a litter cleanup at the Brackenridge Park Conservancy main office on Saturday\, January 10th to help maintain a healthy environment for people\, plants\, and wildlife! We will be cleaning up along the Avenue B park border. Parking is available in our office lot. All materials will be provided (gloves\, trash bags\, and litter grabbers). Bring a water bottle and wear comfortable clothes\, sunblock\, and bug spray. \nFamilies and participants of all ages are welcome! \n  \nRegister to attend: https://sanantonioparks.galaxydigital.com/need/detail/?need_id=1193543 \nDate: Saturday\, January 10\, 2026 \nTime: 10am – 12pm \nLocation: Brackenridge Park Conservancy Main Office \n2611 Broadway \nSan Antonio\, TX 78215 \nMeeting location: Meet at the Brackenridge Park Conservancy Main Office (formerly the Fiesta Commission building) \nFor additional questions\, please email Erin Quintanilla: equintanilla@brackenridgepark.org \nCan’t make it? Sign up here to receive updates on future volunteer events! \n 
URL:https://brackenridgepark.org/event/volunteer-day-avenue-b-litter-cleanup-4/
LOCATION:BPC Main Office\, 2611 Broadway\, San Antonio\, TX\, 78215\, United States
ATTACH;FMTTYPE=image/heic:https://brackenridgepark.org/wp-content/uploads/2025/08/father-with-son-posing-scaled-e1756502738129.jpg
END:VEVENT
BEGIN:VEVENT
DTSTART;TZID=America/Chicago:20260111T090000
DTEND;TZID=America/Chicago:20260111T100000
DTSTAMP:20260421T033858
CREATED:20251230T180603Z
LAST-MODIFIED:20251230T180603Z
UID:10000427-1768122000-1768125600@brackenridgepark.org
SUMMARY:Community Sound Bath
DESCRIPTION:Come relax\, reset\, and ease into your week with a Community Sound Baths at the Brackenridge Park Conservancy office\, located at 2611 Broadway\, SATX 78215. Guided by Diana of Yoga Divina\, this immersive sound experience invites you to slow down\, breathe deeply\, and find balance through soothing vibrations and mindful stillness. A great way to set intentions for the New Year. \nBring a mat\, water bottle\, and anything else you need to get comfortable as you start your Sunday with intention. \nFor more information check out Yoga Divina’s Instagram HERE.
URL:https://brackenridgepark.org/event/community-sound-bath/
LOCATION:BPC Main Office\, 2611 Broadway\, San Antonio\, TX\, 78215\, United States
ATTACH;FMTTYPE=image/png:https://brackenridgepark.org/wp-content/uploads/2025/12/Screenshot-2025-12-30-120111.png
END:VEVENT
BEGIN:VEVENT
DTSTART;TZID=America/Chicago:20260114T063000
DTEND;TZID=America/Chicago:20260114T073000
DTSTAMP:20260421T033858
CREATED:20260109T221528Z
LAST-MODIFIED:20260109T221528Z
UID:10000436-1768372200-1768375800@brackenridgepark.org
SUMMARY:Fitness in the Park: Bootcamp
DESCRIPTION:Fitness in the Park: Bootcamp is back for 2026! Join Brackenridge Park Conservancy in partnership with San Antonio Sports – Activate for a refreshing midweek workout in the heart of the park. This all-levels bootcamp takes place every Wednesday morning from 6:30–7:30 AM at the Joske Pavilion. \nLed by experienced instructor Letty Mendoza\, each class offers a motivating mix of strength\, cardio\, and functional movement designed to challenge and energize participants of all fitness levels. Start your morning moving\, sweating\, and connecting with community—no matter where you are on your fitness journey.
URL:https://brackenridgepark.org/event/fitness-in-the-park-bootcamp/
LOCATION:Joske Pavilion\, 531 Brackenridge Way\, SAN ANTONIO\, TX\, 78212\, United States
ATTACH;FMTTYPE=image/png:https://brackenridgepark.org/wp-content/uploads/2025/06/summer-bootcamp.png
END:VEVENT
BEGIN:VEVENT
DTSTART;TZID=America/Chicago:20260122T093000
DTEND;TZID=America/Chicago:20260122T103000
DTSTAMP:20260421T033858
CREATED:20260105T171829Z
LAST-MODIFIED:20260105T171829Z
UID:10000429-1769074200-1769077800@brackenridgepark.org
SUMMARY:Brackenridge Park Historic Tour
DESCRIPTION:Brackenridge Park Conservancy is excited to partner with the Professional Tour Guide Association of San Antonio to bring you a fascinating look at the park’s rich history. This guided walking tour\, led by Theresa Scheets\, owner of T’s Tours\, covers approximately one mile\, highlighting some of Brackenridge Park’s most historic and scenic landmarks. Please wear comfortable shoes and bring a water bottle to stay hydrated along the way. \nWe’ll meet at the Brackenridge Park Conservancy Office\, 531 Brackenridge Way\, San Antonio\, TX. Please plan to arrive between 9:15 and 9:30 a.m. so the tour can begin promptly at 9:30 a.m. \nPlease register for the tour HERE. \nIf you have any questions before the tour\, don’t hesitate to reach out to bramirez@brackenridgepark.org
URL:https://brackenridgepark.org/event/brackenridge-park-historic-tour-3/
LOCATION:BPC Park Office\, 531 Brackenridge Way\, San Antonio\, TX\, 78212\, United States
ATTACH;FMTTYPE=image/jpeg:https://brackenridgepark.org/wp-content/uploads/2026/01/IMG_4933-1.jpg
END:VEVENT
BEGIN:VEVENT
DTSTART;TZID=America/Chicago:20260125T100000
DTEND;TZID=America/Chicago:20260125T120000
DTSTAMP:20260421T033858
CREATED:20260120T043354Z
LAST-MODIFIED:20260120T194259Z
UID:10000450-1769335200-1769342400@brackenridgepark.org
SUMMARY:Volunteer Day - Park Trails Litter Cleanup
DESCRIPTION:Join us for a litter cleanup in Brackenridge Park on Sunday\, January 25th to help maintain a healthy environment for people\, plants\, and wildlife! We will be meeting on Brackenridge Drive\, in the picnic area shown below. Our focus will be litter cleanup on the walking trails. Parking is available nearby within the park. All materials will be provided (gloves\, trash bags\, and litter grabbers). Bring a water bottle and wear comfortable clothes\, sunblock\, and bug spray. \nFamilies and participants of all ages are welcome! \nRegister to attend: https://sanantonioparks.galaxydigital.com/need/detail/?need_id=1201008 \nDate: Sunday\, January 25\, 2026 \nTime: 10am – 12pm \nLocation: Brackenridge Park \n \nMeeting location: Meet in Brackenridge Park\, on Brackenridge Dr. at the picnic area marked here: \n https://maps.app.goo.gl/WCPwbUXCrzu2zE7Z7 \nFor additional questions\, please email Erin Quintanilla: equintanilla@brackenridgepark.org \nCan’t make it? Sign up here to receive updates on future volunteer events! \n 
URL:https://brackenridgepark.org/event/volunteer-day-park-trails-litter-cleanup/
LOCATION:Brackenridge Dr.
ATTACH;FMTTYPE=image/jpeg:https://brackenridgepark.org/wp-content/uploads/2025/11/lady-holding-trashbag-2-scaled.jpg
END:VEVENT
BEGIN:VEVENT
DTSTART;TZID=America/Chicago:20260131T120000
DTEND;TZID=America/Chicago:20260131T150000
DTSTAMP:20260421T033858
CREATED:20260105T203052Z
LAST-MODIFIED:20260113T183725Z
UID:10000430-1769860800-1769871600@brackenridgepark.org
SUMMARY:Basura Bash Educational Fair
DESCRIPTION:Brackenridge Park Conservancy is proud to partner with River Aid San Antonio for the 2nd Annual Basura Bash Educational Fair\, a free\, family-friendly event celebrating environmental stewardship and community action. \nJoin us Saturday\, January 31\, 2026\, from 12:00–3:00 PM at the Koehler Pavilion\, Cypress Pavilion\, and Pecan Grove in Brackenridge Park. \nEnjoy an afternoon filled with engaging activities and experiences\, including: \n\n\nLive music \n\n\nA yoga class led by Jess Mrozinski of Black Swan Yoga \n\n\nA bird-matching game hosted by Mitchell Lake Audubon Center \n\n\nThe Salsa Squad (Balcones Invaders) invasive plants game \n\n\nA Nature Surprise Goodie Box from Alamo Area Texas Master Naturalist \n\n\nFood and beverage partners will be on site offering delicious options from Chi Chi Birds Hot Chicken\, Slam Daddy Baddies\, Míra Matcha\, and Fine and Dandy Lion. \nYou’ll also have the opportunity to connect with incredible community organizations sharing their missions and resources\, including Remember the River\, Arboretum San Antonio\, Greater Edwards Aquifer Alliance\, River Aid San Antonio\, and Brackenridge Park Conservancy. \nThis educational fair is the perfect way to kick off the annual Basura Bash—you won’t want to miss it! \nInterested in becoming a community partner?Please contact Julian Valencia at jvalencia@riveraidsanantonio.org for more information.
URL:https://brackenridgepark.org/event/basura-bash-educational-fair/
LOCATION:Pecan Grove\, Cypress Pavilion\, and Koehler Pavilion\, 531 Brackenridge Way\, San Antonio\, TX\, 78212\, United States
ATTACH;FMTTYPE=image/jpeg:https://brackenridgepark.org/wp-content/uploads/2026/01/DSC02348-scaled.jpeg
END:VEVENT
END:VCALENDAR