BEGIN:VCALENDAR
VERSION:2.0
PRODID:-//Brackenridge Park Conservancy - ECPv6.15.20//NONSGML v1.0//EN
CALSCALE:GREGORIAN
METHOD:PUBLISH
X-ORIGINAL-URL:https://brackenridgepark.org
X-WR-CALDESC:Events for Brackenridge Park Conservancy
REFRESH-INTERVAL;VALUE=DURATION:PT1H
X-Robots-Tag:noindex
X-PUBLISHED-TTL:PT1H
BEGIN:VTIMEZONE
TZID:America/Chicago
BEGIN:DAYLIGHT
TZOFFSETFROM:-0600
TZOFFSETTO:-0500
TZNAME:CDT
DTSTART:20250309T080000
END:DAYLIGHT
BEGIN:STANDARD
TZOFFSETFROM:-0500
TZOFFSETTO:-0600
TZNAME:CST
DTSTART:20251102T070000
END:STANDARD
BEGIN:DAYLIGHT
TZOFFSETFROM:-0600
TZOFFSETTO:-0500
TZNAME:CDT
DTSTART:20260308T080000
END:DAYLIGHT
BEGIN:STANDARD
TZOFFSETFROM:-0500
TZOFFSETTO:-0600
TZNAME:CST
DTSTART:20261101T070000
END:STANDARD
BEGIN:DAYLIGHT
TZOFFSETFROM:-0600
TZOFFSETTO:-0500
TZNAME:CDT
DTSTART:20270314T080000
END:DAYLIGHT
BEGIN:STANDARD
TZOFFSETFROM:-0500
TZOFFSETTO:-0600
TZNAME:CST
DTSTART:20271107T070000
END:STANDARD
END:VTIMEZONE
BEGIN:VEVENT
DTSTART;TZID=America/Chicago:20260204T063000
DTEND;TZID=America/Chicago:20260204T073000
DTSTAMP:20260421T000132
CREATED:20260127T203728Z
LAST-MODIFIED:20260127T203728Z
UID:10000452-1770186600-1770190200@brackenridgepark.org
SUMMARY:Fitness in the Park: Bootcamp
DESCRIPTION:Fitness in the Park: Bootcamp is back for 2026! Join Brackenridge Park Conservancy in partnership with San Antonio Sports – Activate for a refreshing midweek workout in the heart of the park. This all-levels bootcamp takes place every Wednesday morning from 6:30–7:30 AM at the Koehler Pavilion. \nLed by experienced instructor Letty Mendoza\, each class offers a motivating mix of strength\, cardio\, and functional movement designed to challenge and energize participants of all fitness levels. Start your morning moving\, sweating\, and connecting with community—no matter where you are on your fitness journey. \nFor more information head over to https://activate.sanantoniosports.org \n** May 6\, May 27\, September 30\, and November 11 CLASSES WILL BE HELD AT THE JOSKE PAVILION**
URL:https://brackenridgepark.org/event/fitness-in-the-park-bootcamp-2/2026-02-04/
LOCATION:Koehler Pavilion\, 3700 N. St. Mary's St.\, SAN ANTONIO\, TX\, 78209\, United States
ATTACH;FMTTYPE=image/jpeg:https://brackenridgepark.org/wp-content/uploads/2026/01/Photo-Jul-21-2025-9-10-03-AM-scaled-e1769546157544.jpg
END:VEVENT
BEGIN:VEVENT
DTSTART;TZID=America/Chicago:20260207T093000
DTEND;TZID=America/Chicago:20260207T103000
DTSTAMP:20260421T000132
CREATED:20260127T205900Z
LAST-MODIFIED:20260127T205900Z
UID:10000545-1770456600-1770460200@brackenridgepark.org
SUMMARY:Brackenridge Park Historic Tour
DESCRIPTION:Brackenridge Park Conservancy is excited to partner with the Professional Tour Guide Association of San Antonio to bring you a fascinating look at the park’s rich history. This guided walking tour\, led by Theresa Scheets\, owner of T’s Tours\, covers approximately one mile\, highlighting some of Brackenridge Park’s most historic and scenic landmarks. Please wear comfortable shoes and bring a water bottle to stay hydrated along the way. \nWe’ll meet at the Brackenridge Park Conservancy Office\, 531 Brackenridge Way\, San Antonio\, TX. Please plan to arrive between 9:15 and 9:30 a.m. so the tour can begin promptly at 9:30 a.m. \nPlease register for the tour HERE. \nIf you have any questions before the tour\, don’t hesitate to reach out to bramirez@brackenridgepark.org
URL:https://brackenridgepark.org/event/brackenridge-park-historic-tour-4/
LOCATION:BPC Park Office\, 531 Brackenridge Way\, San Antonio\, TX\, 78212\, United States
ATTACH;FMTTYPE=image/jpeg:https://brackenridgepark.org/wp-content/uploads/2026/01/IMG_4933-1.jpg
END:VEVENT
BEGIN:VEVENT
DTSTART;TZID=America/Chicago:20260208T090000
DTEND;TZID=America/Chicago:20260208T100000
DTSTAMP:20260421T000132
CREATED:20260113T192536Z
LAST-MODIFIED:20260113T192537Z
UID:10000428-1770541200-1770544800@brackenridgepark.org
SUMMARY:Community Sound Bath
DESCRIPTION:Come relax\, reset\, and ease into your week with a Community Sound Baths at the Brackenridge Park Conservancy office\, located at 2611 Broadway\, SATX 78215. Guided by Ana Flores and Yoga Divina\, this immersive sound experience invites you to slow down\, breathe deeply\, and find balance through soothing vibrations and mindful stillness. A great way to set intentions for the New Year. \nCoffee for purchase from Blooming Bean Coffee Co.  \nSunday\, February 8th\, 9am – 10am \nBring a mat\, water bottle\, and anything else you need to get comfortable as you start your Sunday with intention. \nFor more information check out Yoga Divina’s Instagram HERE.
URL:https://brackenridgepark.org/event/community-sound-bath-2/
LOCATION:BPC Main Office\, 2611 Broadway\, San Antonio\, TX\, 78215\, United States
ATTACH;FMTTYPE=image/png:https://brackenridgepark.org/wp-content/uploads/2025/12/Screenshot-2025-12-30-120111.png
END:VEVENT
BEGIN:VEVENT
DTSTART;TZID=America/Chicago:20260208T100000
DTEND;TZID=America/Chicago:20260208T120000
DTSTAMP:20260421T000132
CREATED:20260203T201950Z
LAST-MODIFIED:20260203T221447Z
UID:10000549-1770544800-1770552000@brackenridgepark.org
SUMMARY:Volunteer Day - Park Trails Litter Cleanup
DESCRIPTION:Join us for a park trails litter cleanup in Brackenridge Park on Sunday\, February 8th to help maintain a healthy environment for people\, plants\, and wildlife! We will be meeting on Brackenridge Drive\, in the picnic area shown below. Our focus will be litter cleanup on the walking trails. Parking is available nearby within the park. All materials will be provided (gloves\, trash bags\, and litter grabbers). Bring a water bottle and wear comfortable clothes\, sunblock\, and bug spray. \nFamilies and participants of all ages are welcome! \nRegister to attend: https://sanantonioparks.galaxydigital.com/need/detail/?need_id=1209956 \nDate: Sunday\, February 8\, 2026 \nTime: 10am – 12pm \nLocation: Brackenridge Park \n \nMeeting location: Meet in Brackenridge Park\, on Brackenridge Dr. at the picnic area marked here: \n https://maps.app.goo.gl/WCPwbUXCrzu2zE7Z7 \nFor additional questions\, please email Erin Quintanilla: equintanilla@brackenridgepark.org \nCan’t make it? Sign up here to receive updates on future volunteer events! \n 
URL:https://brackenridgepark.org/event/volunteer-day-park-trails-litter-cleanup-2/
LOCATION:Brackenridge Dr.
ATTACH;FMTTYPE=image/jpeg:https://brackenridgepark.org/wp-content/uploads/2025/11/lady-holding-trashbag-2-scaled.jpg
END:VEVENT
BEGIN:VEVENT
DTSTART;TZID=America/Chicago:20260211T063000
DTEND;TZID=America/Chicago:20260211T073000
DTSTAMP:20260421T000132
CREATED:20260127T203728Z
LAST-MODIFIED:20260127T203728Z
UID:10000453-1770791400-1770795000@brackenridgepark.org
SUMMARY:Fitness in the Park: Bootcamp
DESCRIPTION:Fitness in the Park: Bootcamp is back for 2026! Join Brackenridge Park Conservancy in partnership with San Antonio Sports – Activate for a refreshing midweek workout in the heart of the park. This all-levels bootcamp takes place every Wednesday morning from 6:30–7:30 AM at the Koehler Pavilion. \nLed by experienced instructor Letty Mendoza\, each class offers a motivating mix of strength\, cardio\, and functional movement designed to challenge and energize participants of all fitness levels. Start your morning moving\, sweating\, and connecting with community—no matter where you are on your fitness journey. \nFor more information head over to https://activate.sanantoniosports.org \n** May 6\, May 27\, September 30\, and November 11 CLASSES WILL BE HELD AT THE JOSKE PAVILION**
URL:https://brackenridgepark.org/event/fitness-in-the-park-bootcamp-2/2026-02-11/
LOCATION:Koehler Pavilion\, 3700 N. St. Mary's St.\, SAN ANTONIO\, TX\, 78209\, United States
ATTACH;FMTTYPE=image/jpeg:https://brackenridgepark.org/wp-content/uploads/2026/01/Photo-Jul-21-2025-9-10-03-AM-scaled-e1769546157544.jpg
END:VEVENT
BEGIN:VEVENT
DTSTART;TZID=America/Chicago:20260211T173000
DTEND;TZID=America/Chicago:20260211T183000
DTSTAMP:20260421T000132
CREATED:20260203T211159Z
LAST-MODIFIED:20260203T211159Z
UID:10000550-1770831000-1770834600@brackenridgepark.org
SUMMARY:Fitness in the Park: Pilates
DESCRIPTION:Fitness in the Park: Pilates is a new addition to our 2026 fitness lineup! In partnership with San Antonio Sports – Activate\, this beginner-friendly Pilates class will be held every Wednesday evening from 5:30–6:30 PM at the Joske Pavilion. \nLed by instructor Danielle DeCotis-Holmes\, this class focuses on core strength\, flexibility\, and mindful movement in a welcoming\, supportive environment\, perfect for those new to Pilates or looking for a low-impact workout. Participants are encouraged to bring their own mat and water bottle and enjoy an energizing evening of movement in the park. \nFor more information head over to https://activate.sanantoniosports.org
URL:https://brackenridgepark.org/event/fitness-in-the-park-pilates/2026-02-11/
LOCATION:Joske Pavilion\, 531 Brackenridge Way\, SAN ANTONIO\, TX\, 78212\, United States
ATTACH;FMTTYPE=image/png:https://brackenridgepark.org/wp-content/uploads/2025/06/summer-bootcamp.png
END:VEVENT
BEGIN:VEVENT
DTSTART;TZID=America/Chicago:20260214T100000
DTEND;TZID=America/Chicago:20260214T120000
DTSTAMP:20260421T000132
CREATED:20260203T221400Z
LAST-MODIFIED:20260210T214727Z
UID:10000642-1771063200-1771070400@brackenridgepark.org
SUMMARY:Volunteer Day - Avenue B Litter Cleanup
DESCRIPTION:Join us for a litter cleanup at the Brackenridge Park Conservancy main office on Saturday\, February 14th to help maintain a healthy environment for people\, plants\, and wildlife! We will be cleaning up along the Avenue B park border. Parking is available in our office lot. All materials will be provided (gloves\, trash bags\, and litter grabbers). Bring a water bottle and wear comfortable clothes\, sunblock\, and bug spray. \nFamilies and participants of all ages are welcome! \n  \nRegister to attend: https://sanantonioparks.galaxydigital.com/need/detail/?need_id=1213949 \nDate: Saturday\, February 14\, 2026 \nTime: 10am – 12pm \nLocation: Brackenridge Park Conservancy Main Office \n2611 Broadway \nSan Antonio\, TX 78215 \nMeeting location: Meet at the Brackenridge Park Conservancy Main Office (formerly the Fiesta Commission building) \nFor additional questions\, please email Erin Quintanilla: equintanilla@brackenridgepark.org \nCan’t make it? Sign up here to receive updates on future volunteer events! \n 
URL:https://brackenridgepark.org/event/volunteer-day-avenue-b-litter-cleanup-5/
LOCATION:BPC Main Office\, 2611 Broadway\, San Antonio\, TX\, 78215\, United States
ATTACH;FMTTYPE=image/heic:https://brackenridgepark.org/wp-content/uploads/2025/08/father-with-son-posing-scaled-e1756502738129.jpg
END:VEVENT
BEGIN:VEVENT
DTSTART;TZID=America/Chicago:20260218T063000
DTEND;TZID=America/Chicago:20260218T073000
DTSTAMP:20260421T000132
CREATED:20260127T203728Z
LAST-MODIFIED:20260127T203728Z
UID:10000454-1771396200-1771399800@brackenridgepark.org
SUMMARY:Fitness in the Park: Bootcamp
DESCRIPTION:Fitness in the Park: Bootcamp is back for 2026! Join Brackenridge Park Conservancy in partnership with San Antonio Sports – Activate for a refreshing midweek workout in the heart of the park. This all-levels bootcamp takes place every Wednesday morning from 6:30–7:30 AM at the Koehler Pavilion. \nLed by experienced instructor Letty Mendoza\, each class offers a motivating mix of strength\, cardio\, and functional movement designed to challenge and energize participants of all fitness levels. Start your morning moving\, sweating\, and connecting with community—no matter where you are on your fitness journey. \nFor more information head over to https://activate.sanantoniosports.org \n** May 6\, May 27\, September 30\, and November 11 CLASSES WILL BE HELD AT THE JOSKE PAVILION**
URL:https://brackenridgepark.org/event/fitness-in-the-park-bootcamp-2/2026-02-18/
LOCATION:Koehler Pavilion\, 3700 N. St. Mary's St.\, SAN ANTONIO\, TX\, 78209\, United States
ATTACH;FMTTYPE=image/jpeg:https://brackenridgepark.org/wp-content/uploads/2026/01/Photo-Jul-21-2025-9-10-03-AM-scaled-e1769546157544.jpg
END:VEVENT
BEGIN:VEVENT
DTSTART;TZID=America/Chicago:20260218T173000
DTEND;TZID=America/Chicago:20260218T183000
DTSTAMP:20260421T000132
CREATED:20260203T211159Z
LAST-MODIFIED:20260203T211159Z
UID:10000551-1771435800-1771439400@brackenridgepark.org
SUMMARY:Fitness in the Park: Pilates
DESCRIPTION:Fitness in the Park: Pilates is a new addition to our 2026 fitness lineup! In partnership with San Antonio Sports – Activate\, this beginner-friendly Pilates class will be held every Wednesday evening from 5:30–6:30 PM at the Joske Pavilion. \nLed by instructor Danielle DeCotis-Holmes\, this class focuses on core strength\, flexibility\, and mindful movement in a welcoming\, supportive environment\, perfect for those new to Pilates or looking for a low-impact workout. Participants are encouraged to bring their own mat and water bottle and enjoy an energizing evening of movement in the park. \nFor more information head over to https://activate.sanantoniosports.org
URL:https://brackenridgepark.org/event/fitness-in-the-park-pilates/2026-02-18/
LOCATION:Joske Pavilion\, 531 Brackenridge Way\, SAN ANTONIO\, TX\, 78212\, United States
ATTACH;FMTTYPE=image/png:https://brackenridgepark.org/wp-content/uploads/2025/06/summer-bootcamp.png
END:VEVENT
BEGIN:VEVENT
DTSTART;TZID=America/Chicago:20260222T120000
DTEND;TZID=America/Chicago:20260222T140000
DTSTAMP:20260421T000132
CREATED:20260203T223757Z
LAST-MODIFIED:20260216T183754Z
UID:10000644-1771761600-1771768800@brackenridgepark.org
SUMMARY:Kayak Brack!
DESCRIPTION:Join the Brackenridge Park Conservancy and River Aid San Antonio for a river cleanup in Brackenridge Park!\n\n\n\nBring your own kayak or canoe and help us keep the San Antonio River clean! \n\nParticipants MUST provide their own kayak or canoe\, and MUST have a life jacket or other personal flotation device.\nMeeting location is by the river next to the pedestrian bridge\, right across the road from the BPC office and the Joske Pavilion.\nWe will require all participants to sign a waiver on site before we begin.\nParticipants must be 18 or older.\nLitter grabbers and bags will be provided.\n\nREGISTER HERE! \nDate: Sunday\, February 22\, 2026 \nTime: 12pm – 2pm \nLocation: Brackenridge Park Conservancy Park Office \n531 Brackenridge Way \nSan Antonio\, TX 78212 \nMeeting location: Meet at the river next to the pedestrian bridge across from the BPC Park Office and the Joske Pavilion \nFor additional questions\, please email Erin Quintanilla: equintanilla@brackenridgepark.org \nCan’t make it? Sign up here to receive updates on future volunteer events! \n 
URL:https://brackenridgepark.org/event/kayak-brack-2/
LOCATION:BPC Park Office\, 531 Brackenridge Way\, San Antonio\, TX\, 78212\, United States
ATTACH;FMTTYPE=image/png:https://brackenridgepark.org/wp-content/uploads/2025/12/volunteer_in_kayak_1-scaled.png
END:VEVENT
BEGIN:VEVENT
DTSTART;TZID=America/Chicago:20260225T063000
DTEND;TZID=America/Chicago:20260225T073000
DTSTAMP:20260421T000132
CREATED:20260127T203728Z
LAST-MODIFIED:20260127T203728Z
UID:10000455-1772001000-1772004600@brackenridgepark.org
SUMMARY:Fitness in the Park: Bootcamp
DESCRIPTION:Fitness in the Park: Bootcamp is back for 2026! Join Brackenridge Park Conservancy in partnership with San Antonio Sports – Activate for a refreshing midweek workout in the heart of the park. This all-levels bootcamp takes place every Wednesday morning from 6:30–7:30 AM at the Koehler Pavilion. \nLed by experienced instructor Letty Mendoza\, each class offers a motivating mix of strength\, cardio\, and functional movement designed to challenge and energize participants of all fitness levels. Start your morning moving\, sweating\, and connecting with community—no matter where you are on your fitness journey. \nFor more information head over to https://activate.sanantoniosports.org \n** May 6\, May 27\, September 30\, and November 11 CLASSES WILL BE HELD AT THE JOSKE PAVILION**
URL:https://brackenridgepark.org/event/fitness-in-the-park-bootcamp-2/2026-02-25/
LOCATION:Koehler Pavilion\, 3700 N. St. Mary's St.\, SAN ANTONIO\, TX\, 78209\, United States
ATTACH;FMTTYPE=image/jpeg:https://brackenridgepark.org/wp-content/uploads/2026/01/Photo-Jul-21-2025-9-10-03-AM-scaled-e1769546157544.jpg
END:VEVENT
BEGIN:VEVENT
DTSTART;TZID=America/Chicago:20260225T173000
DTEND;TZID=America/Chicago:20260225T183000
DTSTAMP:20260421T000132
CREATED:20260203T211159Z
LAST-MODIFIED:20260203T211159Z
UID:10000552-1772040600-1772044200@brackenridgepark.org
SUMMARY:Fitness in the Park: Pilates
DESCRIPTION:Fitness in the Park: Pilates is a new addition to our 2026 fitness lineup! In partnership with San Antonio Sports – Activate\, this beginner-friendly Pilates class will be held every Wednesday evening from 5:30–6:30 PM at the Joske Pavilion. \nLed by instructor Danielle DeCotis-Holmes\, this class focuses on core strength\, flexibility\, and mindful movement in a welcoming\, supportive environment\, perfect for those new to Pilates or looking for a low-impact workout. Participants are encouraged to bring their own mat and water bottle and enjoy an energizing evening of movement in the park. \nFor more information head over to https://activate.sanantoniosports.org
URL:https://brackenridgepark.org/event/fitness-in-the-park-pilates/2026-02-25/
LOCATION:Joske Pavilion\, 531 Brackenridge Way\, SAN ANTONIO\, TX\, 78212\, United States
ATTACH;FMTTYPE=image/png:https://brackenridgepark.org/wp-content/uploads/2025/06/summer-bootcamp.png
END:VEVENT
BEGIN:VEVENT
DTSTART;TZID=America/Chicago:20260228T100000
DTEND;TZID=America/Chicago:20260228T120000
DTSTAMP:20260421T000132
CREATED:20260203T222323Z
LAST-MODIFIED:20260210T214510Z
UID:10000643-1772272800-1772280000@brackenridgepark.org
SUMMARY:Volunteer Day - Alpine Drive Cleanup
DESCRIPTION:Join us on Alpine Drive\, at Brackenridge Park’s Sunken Garden Theater\, on Saturday\, February 28th for a litter and brush cleanup to help maintain a healthy environment for people\, plants\, and wildlife. All materials will be provided (gloves\, trash bags\, and litter grabbers). Bring a water bottle and wear comfortable clothes\, sunblock\, and bug spray. \nFamilies of all ages are welcome! \nRegister to attend: https://sanantonioparks.galaxydigital.com/need/detail/?need_id=1213964 \nDate: Saturday\, February 28th\, 2025 \nTime: 10am – 12pm \nLocation: Alpine Drive @ Sunken Garden Theater \n3875 N St Mary’s St \nSan Antonio\, TX 78212 \nMeeting location: Meet in the Sunken Garden Theater parking lot here by the entrance to Alpine Drive \n \nFor additional questions\, please email Erin Quintanilla: equintanilla@brackenridgepark.org \nCan’t make it to this event? Sign up here to receive updates on future volunteer events!
URL:https://brackenridgepark.org/event/volunteer-day-alpine-drive-cleanup/
LOCATION:Alpine Drive\, 3875 N St Mary's St\, San Antonio\, TX\, 78212
ATTACH;FMTTYPE=image/jpeg:https://brackenridgepark.org/wp-content/uploads/2025/07/Volunteer-Group-Women-scaled.jpg
END:VEVENT
END:VCALENDAR