BEGIN:VCALENDAR
VERSION:2.0
PRODID:-//Brackenridge Park Conservancy - ECPv6.15.20//NONSGML v1.0//EN
CALSCALE:GREGORIAN
METHOD:PUBLISH
X-WR-CALNAME:Brackenridge Park Conservancy
X-ORIGINAL-URL:https://brackenridgepark.org
X-WR-CALDESC:Events for Brackenridge Park Conservancy
REFRESH-INTERVAL;VALUE=DURATION:PT1H
X-Robots-Tag:noindex
X-PUBLISHED-TTL:PT1H
BEGIN:VTIMEZONE
TZID:America/Chicago
BEGIN:DAYLIGHT
TZOFFSETFROM:-0600
TZOFFSETTO:-0500
TZNAME:CDT
DTSTART:20240310T080000
END:DAYLIGHT
BEGIN:STANDARD
TZOFFSETFROM:-0500
TZOFFSETTO:-0600
TZNAME:CST
DTSTART:20241103T070000
END:STANDARD
BEGIN:DAYLIGHT
TZOFFSETFROM:-0600
TZOFFSETTO:-0500
TZNAME:CDT
DTSTART:20250309T080000
END:DAYLIGHT
BEGIN:STANDARD
TZOFFSETFROM:-0500
TZOFFSETTO:-0600
TZNAME:CST
DTSTART:20251102T070000
END:STANDARD
BEGIN:DAYLIGHT
TZOFFSETFROM:-0600
TZOFFSETTO:-0500
TZNAME:CDT
DTSTART:20260308T080000
END:DAYLIGHT
BEGIN:STANDARD
TZOFFSETFROM:-0500
TZOFFSETTO:-0600
TZNAME:CST
DTSTART:20261101T070000
END:STANDARD
END:VTIMEZONE
BEGIN:VEVENT
DTSTART;TZID=America/Chicago:20250823T080000
DTEND;TZID=America/Chicago:20250823T110000
DTSTAMP:20260421T075827
CREATED:20250818T210526Z
LAST-MODIFIED:20250819T210521Z
UID:10000142-1755936000-1755946800@brackenridgepark.org
SUMMARY:Volunteer Day - Litter Cleanup
DESCRIPTION:Join us at Brackenridge Park on Saturday\, August 23rd for a litter cleanup to help maintain a healthy environment for people\, plants\, and wildlife. All materials will be provided (gloves\, trash bags\, and litter grabbers). Bring a water bottle and wear comfortable clothes\, sunblock\, and bug spray. \nFamilies of all ages are welcome! \n  \nRegister to attend: https://sanantonioparks.galaxydigital.com/need/detail/?need_id=1128713 \nDate: Saturday\, August 23\, 2025 \nTime: 8am – 11am \nLocation: Brackenridge Park \n531 Brackenridge Way \nSan Antonio\, TX 78212 \nMeeting location: Meet in front of the Brackenridge Park Conservancy office next to the Joske Pavilion \nFor additional questions\, please email Erin Quintanilla: equintanilla@brackenridgepark.org \n  \n 
URL:https://brackenridgepark.org/event/volunteer-day-litter-cleanup-4/
LOCATION:BPC Park Office\, 531 Brackenridge Way\, San Antonio\, TX\, 78212\, United States
ATTACH;FMTTYPE=image/jpeg:https://brackenridgepark.org/wp-content/uploads/2025/07/Volunteer-Group-Women-scaled.jpg
END:VEVENT
BEGIN:VEVENT
DTSTART;TZID=America/Chicago:20250823T080000
DTEND;TZID=America/Chicago:20250823T093000
DTSTAMP:20260421T075827
CREATED:20250612T114714Z
LAST-MODIFIED:20250704T144051Z
UID:10000037-1755936000-1755941400@brackenridgepark.org
SUMMARY:Pilates in the Park
DESCRIPTION:Join us for free Pilates in the Park every Saturday at 8:00 a.m. starting June 14th. Led by Olivia Webb\, this class focuses on core strength and flexibility. Bring your own mat\, towel\, and water. \nUPDATE: Classes will be held at Koehler Pavilion July 7 – 27\, while Joske Pavilion undergoes improvements. 
URL:https://brackenridgepark.org/event/pilates-in-the-park/2025-08-23/
LOCATION:Joske Pavilion\, 531 Brackenridge Way\, SAN ANTONIO\, TX\, 78212\, United States
ATTACH;FMTTYPE=image/png:https://brackenridgepark.org/wp-content/uploads/2025/06/pilates-in-park.png
END:VEVENT
BEGIN:VEVENT
DTSTART;TZID=America/Chicago:20250802T080000
DTEND;TZID=America/Chicago:20250802T110000
DTSTAMP:20260421T075827
CREATED:20250725T160214Z
LAST-MODIFIED:20250725T160214Z
UID:10000080-1754121600-1754132400@brackenridgepark.org
SUMMARY:Volunteer Day - Litter Cleanup
DESCRIPTION:Hill Country Volunteer Opportunities \nOur main priority remains supporting Hill Country relief efforts. To help identify opportunities\, the United Way offers information for volunteering and donations. \nBrackenridge Park Volunteer Opportunity \nIf you are unable to volunteer in the Hill Country and are looking for a local opportunity\, join us at Brackenridge Park on Saturday\, August 2nd for a litter cleanup to help maintain a healthy environment for people\, plants\, and wildlife. All materials will be provided (gloves\, trash bags\, and litter grabbers). Bring a water bottle and wear comfortable clothes\, sunblock\, and bug spray. \nFamilies of all ages are welcome! \n  \nRegister to attend: https://sanantonio.galaxydigital.com/need/detail/?need_id=1117825 \nDate: Saturday\, August 2\, 2025 \nTime: 8am – 11am \nLocation: Brackenridge Park \nMeeting location: Meet next to the Brackenridge Park Garage\, on Avenue B. Map below. \nFor additional questions\, please email Erin Quintanilla: equintanilla@brackenridgepark.org \n 
URL:https://brackenridgepark.org/event/volunteer-day-litter-cleanup-3/
LOCATION:Avenue B next to Brackenridge Park Garage
ATTACH;FMTTYPE=image/jpeg:https://brackenridgepark.org/wp-content/uploads/2025/07/Volunteer-Group-Women-scaled.jpg
END:VEVENT
BEGIN:VEVENT
DTSTART;TZID=America/Chicago:20250719T080000
DTEND;TZID=America/Chicago:20250719T110000
DTSTAMP:20260421T075827
CREATED:20250714T104614Z
LAST-MODIFIED:20250715T153628Z
UID:10000078-1752912000-1752922800@brackenridgepark.org
SUMMARY:Volunteer Day - Litter Cleanup
DESCRIPTION:Hill Country Volunteer Opportunities \nOur main priority remains supporting Hill Country relief efforts. To help identify opportunities\, the United Way offers information for volunteering and donations. \nBrackenridge Park Volunteer Opportunity \nIf you are unable to volunteer in the Hill Country and are looking for a local opportunity\, join us at Brackenridge Park this Saturday for a litter cleanup to help maintain a healthy environment for people\, plants\, and wildlife. All materials will be provided (gloves\, trash bags\, and litter grabbers). Bring a water bottle and wear comfortable clothes\, sunblock\, and bug spray. \nFamilies of all ages are welcome! \n  \nRegister to attend: https://sanantonio.galaxydigital.com/need/detail/?need_id=1112607 \nDate: Saturday\, July 19\, 2025 \nTime: 8am – 11am \nLocation: Brackenridge Park \nMeeting location: Meet along Red Oak Rd. (first parking spots when you enter from E. Mulberry Ave.). Map below. \nFor additional questions\, please email Erin Quintanilla: equintanilla@brackenridgepark.org \n 
URL:https://brackenridgepark.org/event/volunteer-day-litter-cleanup-2/
LOCATION:Red Oak Rd. in Brackenridge Park\, Red Oak Rd.\, San Antonio\, TX\, 78212\, United States
ATTACH;FMTTYPE=image/jpeg:https://brackenridgepark.org/wp-content/uploads/2025/07/Volunteer-Group-Women-scaled.jpg
END:VEVENT
BEGIN:VEVENT
DTSTART;TZID=America/Chicago:20250706T080000
DTEND;TZID=America/Chicago:20250706T110000
DTSTAMP:20260421T075827
CREATED:20250703T011403Z
LAST-MODIFIED:20250705T212334Z
UID:10000077-1751788800-1751799600@brackenridgepark.org
SUMMARY:POSTPONED - Volunteer Day - Litter Cleanup
DESCRIPTION:THIS EVENT IS POSTPONED DUE TO FLOODING IN THE HILL COUNTRY AND THE LOSS OF LIFE OF SO MANY. OUR THOUGHTS ARE WITH THE VICTIMS AND THOSE AWAITING NEWS OF THEIR LOVED ONES. \n  \nJoin us for a litter cleanup to protect people\, plants\, and wildlife. \nAll materials will be provided. \nWear comfy clothes and shoes\, and bring a refillable water bottle.  \nRegister to attend: https://sanantonio.galaxydigital.com/need/detail/?need_id=1110119 \nWhere:  \nBrackenridge Park \nMeet at Joske Pavilion \n531 Brackenridge Way
URL:https://brackenridgepark.org/event/volunteer-day-litter-cleanup/
LOCATION:Joske Pavilion\, 531 Brackenridge Way\, SAN ANTONIO\, TX\, 78212\, United States
ATTACH;FMTTYPE=image/png:https://brackenridgepark.org/wp-content/uploads/2025/06/volunteer-day.png
END:VEVENT
BEGIN:VEVENT
DTSTART;TZID=America/Chicago:20250703T090000
DTEND;TZID=America/Chicago:20250703T120000
DTSTAMP:20260421T075827
CREATED:20250612T120556Z
LAST-MODIFIED:20250612T120628Z
UID:10000063-1751533200-1751544000@brackenridgepark.org
SUMMARY:Summer Parkour Adventure
DESCRIPTION:Give your child an unforgettable summer of movement\, exploration\, and fun with Parkour Generations San Antonio! This outdoor adventure blends skill-building\, games\, and nature exploration\, led by certified instructors in a safe and supportive environment. \nSchedule: Monday–Thursday\, 9 AM–12 PM (June–August)   June 2-5\, June 9-12\, June 30-July 3\, July 7-10\, July 14-17\, July 21-24\, July 27-31\, August 4-7   ???? Pricing: $200 per week / $60 per day (10% sibling discount) \nWhy Join? ✔ Professional parkour instruction ✔ Engaging activities for all skill levels ✔ Safe and inclusive community ✔ Connection with nature \nRegister now! Spaces are limited—secure your child’s spot today!
URL:https://brackenridgepark.org/event/summer-parkour-adventure/2025-07-03/
LOCATION:TX
ATTACH;FMTTYPE=image/png:https://brackenridgepark.org/wp-content/uploads/2025/06/parkour-in-park.png
END:VEVENT
BEGIN:VEVENT
DTSTART;TZID=America/Chicago:20250628T090000
DTEND;TZID=America/Chicago:20250628T120000
DTSTAMP:20260421T075827
CREATED:20250612T115701Z
LAST-MODIFIED:20250612T115701Z
UID:10000049-1751101200-1751112000@brackenridgepark.org
SUMMARY:Volunteer Day in the Park
DESCRIPTION:Join us to help clean and restore the park. All materials will be provided. Be sure to wear comfortable clothes and shoes\, and bring a refillable water bottle. \nRegistration link to come. \nFor more info\, email Erin Quintanilla at equintanilla@brackenridgepark.org.
URL:https://brackenridgepark.org/event/volunteer-day-in-the-park/
LOCATION:Joske Pavilion\, 531 Brackenridge Way\, SAN ANTONIO\, TX\, 78212\, United States
ATTACH;FMTTYPE=image/png:https://brackenridgepark.org/wp-content/uploads/2025/06/volunteer-day.png
END:VEVENT
END:VCALENDAR