BEGIN:VCALENDAR
VERSION:2.0
PRODID:-//Brackenridge Park Conservancy - ECPv6.15.20//NONSGML v1.0//EN
CALSCALE:GREGORIAN
METHOD:PUBLISH
X-WR-CALNAME:Brackenridge Park Conservancy
X-ORIGINAL-URL:https://brackenridgepark.org
X-WR-CALDESC:Events for Brackenridge Park Conservancy
REFRESH-INTERVAL;VALUE=DURATION:PT1H
X-Robots-Tag:noindex
X-PUBLISHED-TTL:PT1H
BEGIN:VTIMEZONE
TZID:America/Chicago
BEGIN:DAYLIGHT
TZOFFSETFROM:-0600
TZOFFSETTO:-0500
TZNAME:CDT
DTSTART:20250309T080000
END:DAYLIGHT
BEGIN:STANDARD
TZOFFSETFROM:-0500
TZOFFSETTO:-0600
TZNAME:CST
DTSTART:20251102T070000
END:STANDARD
BEGIN:DAYLIGHT
TZOFFSETFROM:-0600
TZOFFSETTO:-0500
TZNAME:CDT
DTSTART:20260308T080000
END:DAYLIGHT
BEGIN:STANDARD
TZOFFSETFROM:-0500
TZOFFSETTO:-0600
TZNAME:CST
DTSTART:20261101T070000
END:STANDARD
BEGIN:DAYLIGHT
TZOFFSETFROM:-0600
TZOFFSETTO:-0500
TZNAME:CDT
DTSTART:20270314T080000
END:DAYLIGHT
BEGIN:STANDARD
TZOFFSETFROM:-0500
TZOFFSETTO:-0600
TZNAME:CST
DTSTART:20271107T070000
END:STANDARD
END:VTIMEZONE
BEGIN:VEVENT
DTSTART;TZID=America/Chicago:20260425T093000
DTEND;TZID=America/Chicago:20260425T103000
DTSTAMP:20260420T195935
CREATED:20260127T210640Z
LAST-MODIFIED:20260413T160145Z
UID:10000547-1777109400-1777113000@brackenridgepark.org
SUMMARY:Brackenridge Park Historic Tour
DESCRIPTION:Brackenridge Park Conservancy is excited to partner with the Professional Tour Guide Association of San Antonio to bring you a fascinating look at the park’s rich history. This guided walking tour\, led by Theresa Scheets\, owner of T’s Tours\, covers approximately one mile\, highlighting some of Brackenridge Park’s most historic and scenic landmarks. Please wear comfortable shoes and bring a water bottle to stay hydrated along the way. \nWe’ll meet at the Brackenridge Park Conservancy Office\, 531 Brackenridge Way\, San Antonio\, TX. Please plan to arrive between 9:15 and 9:30 a.m. so the tour can begin promptly at 9:30 a.m. \nYou can register for the tour HERE. Tours are limited in size to create an engaging experience. A $5 registration fee per participant supports our tour guides and contributes to the Conservancy’s efforts to preserve and protect the park. \nIf you have any questions before the tour\, don’t hesitate to reach out to bramirez@brackenridgepark.org
URL:https://brackenridgepark.org/event/brackenridge-park-historic-tour-6/
LOCATION:BPC Park Office\, 531 Brackenridge Way\, San Antonio\, TX\, 78212\, United States
ATTACH;FMTTYPE=image/jpeg:https://brackenridgepark.org/wp-content/uploads/2026/01/IMG_4933-1.jpg
END:VEVENT
BEGIN:VEVENT
DTSTART;TZID=America/Chicago:20260517T090000
DTEND;TZID=America/Chicago:20260517T100000
DTSTAMP:20260420T195935
CREATED:20260113T190348Z
LAST-MODIFIED:20260113T190348Z
UID:10000439-1779008400-1779012000@brackenridgepark.org
SUMMARY:Community Sound Baths at Joske Pavilion
DESCRIPTION:Come relax\, reset\, and ease into your week with our Community Sound Baths at the beautiful Joske Pavilion. Guided by Ana Flores and Yoga Divina\, these immersive sound experiences invite you to slow down\, breathe deeply\, and find balance through soothing vibrations and mindful stillness all alongside the calming flow of the San Antonio River. Bring a mat\, water bottle\, and anything else you need to get comfortable as you start your Sunday with intention. \n🗓️Sunday\, May 17th\, 9am – 10am \nFor more information check out Comadre Remedios Instagram HERE.
URL:https://brackenridgepark.org/event/community-sound-baths-at-joske-pavilion-4/
LOCATION:Joske Pavilion\, 531 Brackenridge Way\, SAN ANTONIO\, TX\, 78212\, United States
ATTACH;FMTTYPE=image/jpeg:https://brackenridgepark.org/wp-content/uploads/2025/12/thumbnail_image4.jpg
END:VEVENT
BEGIN:VEVENT
DTSTART;TZID=America/Chicago:20260524T090000
DTEND;TZID=America/Chicago:20260524T100000
DTSTAMP:20260420T195935
CREATED:20260113T191910Z
LAST-MODIFIED:20260113T191910Z
UID:10000444-1779613200-1779616800@brackenridgepark.org
SUMMARY:Community Kinetics & Sound Bath at Joske Pavilion
DESCRIPTION:Slow down\, move with intention\, and reset before the week ahead with our Kinetics & Sound Bath experience at the Joske Pavilion. Led by Ana Flores\, with a special collaboration by Krystle Kruizenga of MindBodyEmpowered\, this unique session blends gentle\, mindful movement with immersive sound healing to help release tension\, restore balance\, and calm the nervous system. Please bring a mat\, water bottle\, and anything else you need to feel comfortable. \n☕Coffee for purchase from Blooming Bean Coffee Co.  \n🗓️Sunday\, November 8th\, 9am – 10am \nFor more information check out Comadre Remedios Instagram HERE.
URL:https://brackenridgepark.org/event/community-kinetics-sound-bath-at-joske-pavilion/
LOCATION:Joske Pavilion\, 531 Brackenridge Way\, SAN ANTONIO\, TX\, 78212\, United States
ATTACH;FMTTYPE=image/jpeg:https://brackenridgepark.org/wp-content/uploads/2025/12/thumbnail_image4.jpg
END:VEVENT
BEGIN:VEVENT
DTSTART;TZID=America/Chicago:20260607T090000
DTEND;TZID=America/Chicago:20260607T100000
DTSTAMP:20260420T195935
CREATED:20260113T192804Z
LAST-MODIFIED:20260113T193043Z
UID:10000448-1780822800-1780826400@brackenridgepark.org
SUMMARY:Community Sound Bath
DESCRIPTION:Come relax\, reset\, and ease into your week with our Community Sound Baths at the beautiful Joske Pavilion. Guided by Yoga Divina\, these immersive sound experiences invite you to slow down\, breathe deeply\, and find balance through soothing vibrations and mindful stillness all alongside the calming flow of the San Antonio River. Bring a mat\, water bottle\, and anything else you need to get comfortable as you start your Sunday with intention. \nSunday\, June 7th\, 9am – 10am \nBring a mat\, water bottle\, and anything else you need to get comfortable as you start your Sunday with intention. \nFor more information check out Yoga Divina’s Instagram HERE.
URL:https://brackenridgepark.org/event/community-sound-bath-3/
LOCATION:Joske Pavilion\, 531 Brackenridge Way\, SAN ANTONIO\, TX\, 78212\, United States
ATTACH;FMTTYPE=image/png:https://brackenridgepark.org/wp-content/uploads/2025/12/Screenshot-2025-12-30-120111.png
END:VEVENT
BEGIN:VEVENT
DTSTART;TZID=America/Chicago:20260621T090000
DTEND;TZID=America/Chicago:20260621T130000
DTSTAMP:20260420T195935
CREATED:20260106T192217Z
LAST-MODIFIED:20260106T192217Z
UID:10000434-1782032400-1782046800@brackenridgepark.org
SUMMARY:International Day of Yoga
DESCRIPTION:🌿 International Day of Yoga at Brackenridge Park🌿\nCelebrate International Day of Yoga with Brackenridge Park Conservancy and Community Sound Baths at the beautiful Joske Pavilion on Sunday\, June 21\, from 9:00 AM–1:00 PM. \nJoin us for a nourishing morning of movement\, mindfulness\, and community in the heart of Brackenridge Park. This uplifting wellness gathering will feature a vibrant mix of wellness vendors\, energizing workout classes\, Salsa dancing\, grounding yoga sessions\, and soothing sound bath experiences—all thoughtfully curated to help you slow down\, reconnect\, and explore the many wellness opportunities available throughout our city. \nCome as you are and enjoy a day dedicated to honoring your well-being in one of San Antonio’s most beloved park settings.Check back soon for participating community partners and vendors. \nInterested in being a community partner or vendor?Please reach out to Director of Events\, Britta Ramirez at bramirez@brackenridgepark.org.
URL:https://brackenridgepark.org/event/international-day-of-yoga/
LOCATION:Joske Pavilion\, 531 Brackenridge Way\, SAN ANTONIO\, TX\, 78212\, United States
ATTACH;FMTTYPE=image/png:https://brackenridgepark.org/wp-content/uploads/2026/01/IMG_4125.png
END:VEVENT
BEGIN:VEVENT
DTSTART;TZID=America/Chicago:20260712T090000
DTEND;TZID=America/Chicago:20260712T100000
DTSTAMP:20260420T195935
CREATED:20260113T190448Z
LAST-MODIFIED:20260113T190448Z
UID:10000440-1783846800-1783850400@brackenridgepark.org
SUMMARY:Community Sound Baths at Joske Pavilion
DESCRIPTION:Come relax\, reset\, and ease into your week with our Community Sound Baths at the beautiful Joske Pavilion. Guided by Ana Flores and Yoga Divina\, these immersive sound experiences invite you to slow down\, breathe deeply\, and find balance through soothing vibrations and mindful stillness all alongside the calming flow of the San Antonio River. Bring a mat\, water bottle\, and anything else you need to get comfortable as you start your Sunday with intention. \n🗓️Sunday\, July 12th\, 9am – 10am \nFor more information check out Comadre Remedios Instagram HERE.
URL:https://brackenridgepark.org/event/community-sound-baths-at-joske-pavilion-5/
LOCATION:Joske Pavilion\, 531 Brackenridge Way\, SAN ANTONIO\, TX\, 78212\, United States
ATTACH;FMTTYPE=image/jpeg:https://brackenridgepark.org/wp-content/uploads/2025/12/thumbnail_image4.jpg
END:VEVENT
BEGIN:VEVENT
DTSTART;TZID=America/Chicago:20260719T090000
DTEND;TZID=America/Chicago:20260719T100000
DTSTAMP:20260420T195935
CREATED:20260113T191952Z
LAST-MODIFIED:20260113T191952Z
UID:10000445-1784451600-1784455200@brackenridgepark.org
SUMMARY:Community Kinetics & Sound Bath at Joske Pavilion
DESCRIPTION:Slow down\, move with intention\, and reset before the week ahead with our Kinetics & Sound Bath experience at the Joske Pavilion. Led by Ana Flores\, with a special collaboration by Krystle Kruizenga of MindBodyEmpowered\, this unique session blends gentle\, mindful movement with immersive sound healing to help release tension\, restore balance\, and calm the nervous system. Please bring a mat\, water bottle\, and anything else you need to feel comfortable. \n☕Coffee for purchase from Blooming Bean Coffee Co.  \n🗓️Sunday\, July 19th\, 9am – 10am \nFor more information check out Comadre Remedios Instagram HERE.
URL:https://brackenridgepark.org/event/community-kinetics-sound-bath-at-joske-pavilion-2/
LOCATION:Joske Pavilion\, 531 Brackenridge Way\, SAN ANTONIO\, TX\, 78212\, United States
ATTACH;FMTTYPE=image/jpeg:https://brackenridgepark.org/wp-content/uploads/2025/12/thumbnail_image4.jpg
END:VEVENT
BEGIN:VEVENT
DTSTART;TZID=America/Chicago:20260809T090000
DTEND;TZID=America/Chicago:20260809T100000
DTSTAMP:20260420T195935
CREATED:20260113T190547Z
LAST-MODIFIED:20260113T190547Z
UID:10000441-1786266000-1786269600@brackenridgepark.org
SUMMARY:Community Sound Baths at Joske Pavilion
DESCRIPTION:Come relax\, reset\, and ease into your week with our Community Sound Baths at the beautiful Joske Pavilion. Guided by Ana Flores and Yoga Divina\, these immersive sound experiences invite you to slow down\, breathe deeply\, and find balance through soothing vibrations and mindful stillness all alongside the calming flow of the San Antonio River. Bring a mat\, water bottle\, and anything else you need to get comfortable as you start your Sunday with intention. \n🗓️Sunday\, August 9th\, 9am – 10am \nFor more information check out Comadre Remedios Instagram HERE.
URL:https://brackenridgepark.org/event/community-sound-baths-at-joske-pavilion-6/
LOCATION:Joske Pavilion\, 531 Brackenridge Way\, SAN ANTONIO\, TX\, 78212\, United States
ATTACH;FMTTYPE=image/jpeg:https://brackenridgepark.org/wp-content/uploads/2025/12/thumbnail_image4.jpg
END:VEVENT
BEGIN:VEVENT
DTSTART;TZID=America/Chicago:20260906T090000
DTEND;TZID=America/Chicago:20260906T100000
DTSTAMP:20260420T195935
CREATED:20260113T192130Z
LAST-MODIFIED:20260113T193309Z
UID:10000447-1788685200-1788688800@brackenridgepark.org
SUMMARY:Community Kinetics & Sound Bath at Joske Pavilion
DESCRIPTION:Slow down\, move with intention\, and reset before the week ahead with our Kinetics & Sound Bath experience at the Joske Pavilion. Led by Ana Flores\, with a special collaboration by Krystle Kruizenga of MindBodyEmpowered\, this unique session blends gentle\, mindful movement with immersive sound healing to help release tension\, restore balance\, and calm the nervous system. Please bring a mat\, water bottle\, and anything else you need to feel comfortable. \n🗓️Sunday\, September 6th\, 9am – 10am \nFor more information check out Comadre Remedios Instagram HERE.
URL:https://brackenridgepark.org/event/community-kinetics-sound-bath-at-joske-pavilion-4/
LOCATION:Joske Pavilion\, 531 Brackenridge Way\, SAN ANTONIO\, TX\, 78212\, United States
ATTACH;FMTTYPE=image/jpeg:https://brackenridgepark.org/wp-content/uploads/2025/12/thumbnail_image4.jpg
END:VEVENT
BEGIN:VEVENT
DTSTART;TZID=America/Chicago:20260913T090000
DTEND;TZID=America/Chicago:20260913T100000
DTSTAMP:20260420T195935
CREATED:20260113T190621Z
LAST-MODIFIED:20260113T190621Z
UID:10000442-1789290000-1789293600@brackenridgepark.org
SUMMARY:Community Sound Baths at Joske Pavilion
DESCRIPTION:Come relax\, reset\, and ease into your week with our Community Sound Baths at the beautiful Joske Pavilion. Guided by Ana Flores and Yoga Divina\, these immersive sound experiences invite you to slow down\, breathe deeply\, and find balance through soothing vibrations and mindful stillness all alongside the calming flow of the San Antonio River. Bring a mat\, water bottle\, and anything else you need to get comfortable as you start your Sunday with intention. \n🗓️Sunday\, September 13th\, 9am – 10am \nFor more information check out Comadre Remedios Instagram HERE.
URL:https://brackenridgepark.org/event/community-sound-baths-at-joske-pavilion-7/
LOCATION:Joske Pavilion\, 531 Brackenridge Way\, SAN ANTONIO\, TX\, 78212\, United States
ATTACH;FMTTYPE=image/jpeg:https://brackenridgepark.org/wp-content/uploads/2025/12/thumbnail_image4.jpg
END:VEVENT
BEGIN:VEVENT
DTSTART;TZID=America/Chicago:20261011T090000
DTEND;TZID=America/Chicago:20261011T100000
DTSTAMP:20260420T195935
CREATED:20260113T190132Z
LAST-MODIFIED:20260113T190132Z
UID:10000437-1791709200-1791712800@brackenridgepark.org
SUMMARY:Community Sound Baths at Joske Pavilion
DESCRIPTION:Come relax\, reset\, and ease into your week with our Community Sound Baths at the beautiful Joske Pavilion. Guided by Ana Flores and Yoga Divina\, these immersive sound experiences invite you to slow down\, breathe deeply\, and find balance through soothing vibrations and mindful stillness all alongside the calming flow of the San Antonio River. Bring a mat\, water bottle\, and anything else you need to get comfortable as you start your Sunday with intention. \n☕Coffee for purchase from Blooming Bean Coffee Co.  \n🗓️Sunday\, October 11th\, 9am – 10am \nFor more information check out Comadre Remedios Instagram HERE.
URL:https://brackenridgepark.org/event/community-sound-baths-at-joske-pavilion-2/
LOCATION:Joske Pavilion\, 531 Brackenridge Way\, SAN ANTONIO\, TX\, 78212\, United States
ATTACH;FMTTYPE=image/jpeg:https://brackenridgepark.org/wp-content/uploads/2025/12/thumbnail_image4.jpg
END:VEVENT
BEGIN:VEVENT
DTSTART;TZID=America/Chicago:20261101T090000
DTEND;TZID=America/Chicago:20261101T100000
DTSTAMP:20260420T195935
CREATED:20260113T192045Z
LAST-MODIFIED:20260113T192045Z
UID:10000446-1793523600-1793527200@brackenridgepark.org
SUMMARY:Community Kinetics & Sound Bath at Joske Pavilion
DESCRIPTION:Slow down\, move with intention\, and reset before the week ahead with our Kinetics & Sound Bath experience at the Joske Pavilion. Led by Ana Flores\, with a special collaboration by Krystle Kruizenga of MindBodyEmpowered\, this unique session blends gentle\, mindful movement with immersive sound healing to help release tension\, restore balance\, and calm the nervous system. Please bring a mat\, water bottle\, and anything else you need to feel comfortable. \n☕Coffee for purchase from Blooming Bean Coffee Co.  \n🗓️Sunday\, November 1st\, 9am – 10am \nFor more information check out Comadre Remedios Instagram HERE.
URL:https://brackenridgepark.org/event/community-kinetics-sound-bath-at-joske-pavilion-3/
LOCATION:Joske Pavilion\, 531 Brackenridge Way\, SAN ANTONIO\, TX\, 78212\, United States
ATTACH;FMTTYPE=image/jpeg:https://brackenridgepark.org/wp-content/uploads/2025/12/thumbnail_image4.jpg
END:VEVENT
BEGIN:VEVENT
DTSTART;TZID=America/Chicago:20261108T090000
DTEND;TZID=America/Chicago:20261108T100000
DTSTAMP:20260420T195935
CREATED:20260113T190705Z
LAST-MODIFIED:20260113T190705Z
UID:10000443-1794128400-1794132000@brackenridgepark.org
SUMMARY:Community Sound Baths at Joske Pavilion
DESCRIPTION:Come relax\, reset\, and ease into your week with our Community Sound Baths at the beautiful Joske Pavilion. Guided by Ana Flores and Yoga Divina\, these immersive sound experiences invite you to slow down\, breathe deeply\, and find balance through soothing vibrations and mindful stillness all alongside the calming flow of the San Antonio River. Bring a mat\, water bottle\, and anything else you need to get comfortable as you start your Sunday with intention. \n🗓️Sunday\, November 8th\, 9am – 10am \nFor more information check out Comadre Remedios Instagram HERE.
URL:https://brackenridgepark.org/event/community-sound-baths-at-joske-pavilion-8/
LOCATION:Joske Pavilion\, 531 Brackenridge Way\, SAN ANTONIO\, TX\, 78212\, United States
ATTACH;FMTTYPE=image/jpeg:https://brackenridgepark.org/wp-content/uploads/2025/12/thumbnail_image4.jpg
END:VEVENT
END:VCALENDAR