BEGIN:VCALENDAR
VERSION:2.0
PRODID:-//Brackenridge Park Conservancy - ECPv6.15.20//NONSGML v1.0//EN
CALSCALE:GREGORIAN
METHOD:PUBLISH
X-WR-CALNAME:Brackenridge Park Conservancy
X-ORIGINAL-URL:https://brackenridgepark.org
X-WR-CALDESC:Events for Brackenridge Park Conservancy
REFRESH-INTERVAL;VALUE=DURATION:PT1H
X-Robots-Tag:noindex
X-PUBLISHED-TTL:PT1H
BEGIN:VTIMEZONE
TZID:America/Chicago
BEGIN:DAYLIGHT
TZOFFSETFROM:-0600
TZOFFSETTO:-0500
TZNAME:CDT
DTSTART:20240310T080000
END:DAYLIGHT
BEGIN:STANDARD
TZOFFSETFROM:-0500
TZOFFSETTO:-0600
TZNAME:CST
DTSTART:20241103T070000
END:STANDARD
BEGIN:DAYLIGHT
TZOFFSETFROM:-0600
TZOFFSETTO:-0500
TZNAME:CDT
DTSTART:20250309T080000
END:DAYLIGHT
BEGIN:STANDARD
TZOFFSETFROM:-0500
TZOFFSETTO:-0600
TZNAME:CST
DTSTART:20251102T070000
END:STANDARD
BEGIN:DAYLIGHT
TZOFFSETFROM:-0600
TZOFFSETTO:-0500
TZNAME:CDT
DTSTART:20260308T080000
END:DAYLIGHT
BEGIN:STANDARD
TZOFFSETFROM:-0500
TZOFFSETTO:-0600
TZNAME:CST
DTSTART:20261101T070000
END:STANDARD
END:VTIMEZONE
BEGIN:VEVENT
DTSTART;TZID=America/Chicago:20251015T103000
DTEND;TZID=America/Chicago:20251015T120000
DTSTAMP:20260422T054159
CREATED:20250915T211343Z
LAST-MODIFIED:20251013T211540Z
UID:897-1760524200-1760529600@brackenridgepark.org
SUMMARY:Hispanic Heritage Month - Miraflores Tour
DESCRIPTION:Join Brackenridge Park Conservancy for a tour of Miraflores led by Lynn Osborne Bobbitt for Hispanic Heritage Month. \nDr. Aureliano Urrutia\, a distinguished physician from Mexico City\, made San Antonio his home in 1914 during the Mexican Revolution. To honor the city he left behind\, he created Miraflores—his heartfelt tribute to the beauty and culture of Mexico City. Step back in time with us as we explore the rich history and exciting future of this enchanting garden. \nThe tour registration is full. Please signup for our newsletter to hear about future tours. 
URL:https://brackenridgepark.org/event/hispanic-heritage-month-miraflores-tour/
LOCATION:Miraflores\, 1234 E Hildebrand\, San Antonio\, 78209\, United States
ATTACH;FMTTYPE=image/png:https://brackenridgepark.org/wp-content/uploads/2025/09/miraflores-tour.png
END:VEVENT
END:VCALENDAR