BEGIN:VCALENDAR
VERSION:2.0
PRODID:-//Brackenridge Park Conservancy - ECPv6.15.20//NONSGML v1.0//EN
CALSCALE:GREGORIAN
METHOD:PUBLISH
X-WR-CALNAME:Brackenridge Park Conservancy
X-ORIGINAL-URL:https://brackenridgepark.org
X-WR-CALDESC:Events for Brackenridge Park Conservancy
REFRESH-INTERVAL;VALUE=DURATION:PT1H
X-Robots-Tag:noindex
X-PUBLISHED-TTL:PT1H
BEGIN:VTIMEZONE
TZID:America/Chicago
BEGIN:DAYLIGHT
TZOFFSETFROM:-0600
TZOFFSETTO:-0500
TZNAME:CDT
DTSTART:20250309T080000
END:DAYLIGHT
BEGIN:STANDARD
TZOFFSETFROM:-0500
TZOFFSETTO:-0600
TZNAME:CST
DTSTART:20251102T070000
END:STANDARD
BEGIN:DAYLIGHT
TZOFFSETFROM:-0600
TZOFFSETTO:-0500
TZNAME:CDT
DTSTART:20260308T080000
END:DAYLIGHT
BEGIN:STANDARD
TZOFFSETFROM:-0500
TZOFFSETTO:-0600
TZNAME:CST
DTSTART:20261101T070000
END:STANDARD
BEGIN:DAYLIGHT
TZOFFSETFROM:-0600
TZOFFSETTO:-0500
TZNAME:CDT
DTSTART:20270314T080000
END:DAYLIGHT
BEGIN:STANDARD
TZOFFSETFROM:-0500
TZOFFSETTO:-0600
TZNAME:CST
DTSTART:20271107T070000
END:STANDARD
END:VTIMEZONE
BEGIN:VEVENT
DTSTART;TZID=America/Chicago:20260322T140000
DTEND;TZID=America/Chicago:20260322T170000
DTSTAMP:20260422T043557
CREATED:20251201T203300Z
LAST-MODIFIED:20260122T190402Z
UID:1027-1774188000-1774198800@brackenridgepark.org
SUMMARY:Polo in the Park
DESCRIPTION:  \n \nBrackenridge Park Conservancy is excited to welcome the community back for the 3rd Annual Polo in the Park\, an afternoon of sport\, style\, and springtime fun set against the historic backdrop of the original Brackenridge Park Polo Fields\, now the First Tee Greater San Antonio. This beloved annual tradition brings together polo enthusiasts\, park supporters\, and the public to enjoy live polo matches\, great food\, and a vibrant outdoor atmosphere—all while supporting the Conservancy’s mission to preserve and enhance Brackenridge Park. \nDate: Sunday\, March 22Time: 2:00 PM – 5:00 PMLocation: First Tee Greater San Antonio915 E Mulberry Ave\, San Antonio\, TX 78212 \nParking:Parking at the First Tee will be very limited. Guests are encouraged to rideshare or park at the Sunken Garden Theatre lot or the Zoo Depot lot on St. Mary’s Street. Valet parking will be available on-site for a fee. \n\nVIP Tables & Tickets\nUpgrade your experience with VIP access and enjoy Polo in the Park in elevated comfort and style. VIP tickets include: \n\n\nComplimentary food and cocktails \n\n\nTented premium seating with the best views of the match \n\n\nAccess to indoor restrooms \n\n\nComplimentary valet parking \n\n\n👉 Purchase VIP Tables & Tickets HERE \n\nGeneral Admission\nGeneral Admission to Polo in the Park is free and open to the public. \n\n\nLimited bleacher seating will be available \n\n\nGuests are welcome to bring their own lawn chairs or blankets \n\n\nSuni Blingoz Tex-Mex Asian food truck will be on-site with food available for purchase \n\n\n👉 Register for General Admission HERE \n\nInterested in becoming a sponsor of Polo in the Park? Click here to learn more about sponsorship opportunities. \nIf you have any questions or need more information please contact Director of Events\, Britta Ramirez at bramirez@brackenridgepark.org
URL:https://brackenridgepark.org/event/polo-in-the-park/
LOCATION:First Tee Greater San Antonio\, 915 E Mulberry\, San Antonio\, 78212\, United States
ATTACH;FMTTYPE=image/jpeg:https://brackenridgepark.org/wp-content/uploads/2025/12/green-team-blue-team-game-2-scaled.jpg
END:VEVENT
END:VCALENDAR