BEGIN:VCALENDAR
VERSION:2.0
PRODID:-//Brackenridge Park Conservancy - ECPv6.15.20//NONSGML v1.0//EN
CALSCALE:GREGORIAN
METHOD:PUBLISH
X-WR-CALNAME:Brackenridge Park Conservancy
X-ORIGINAL-URL:https://brackenridgepark.org
X-WR-CALDESC:Events for Brackenridge Park Conservancy
REFRESH-INTERVAL;VALUE=DURATION:PT1H
X-Robots-Tag:noindex
X-PUBLISHED-TTL:PT1H
BEGIN:VTIMEZONE
TZID:America/Chicago
BEGIN:DAYLIGHT
TZOFFSETFROM:-0600
TZOFFSETTO:-0500
TZNAME:CDT
DTSTART:20240310T080000
END:DAYLIGHT
BEGIN:STANDARD
TZOFFSETFROM:-0500
TZOFFSETTO:-0600
TZNAME:CST
DTSTART:20241103T070000
END:STANDARD
BEGIN:DAYLIGHT
TZOFFSETFROM:-0600
TZOFFSETTO:-0500
TZNAME:CDT
DTSTART:20250309T080000
END:DAYLIGHT
BEGIN:STANDARD
TZOFFSETFROM:-0500
TZOFFSETTO:-0600
TZNAME:CST
DTSTART:20251102T070000
END:STANDARD
BEGIN:DAYLIGHT
TZOFFSETFROM:-0600
TZOFFSETTO:-0500
TZNAME:CDT
DTSTART:20260308T080000
END:DAYLIGHT
BEGIN:STANDARD
TZOFFSETFROM:-0500
TZOFFSETTO:-0600
TZNAME:CST
DTSTART:20261101T070000
END:STANDARD
END:VTIMEZONE
BEGIN:VEVENT
DTSTART;TZID=America/Chicago:20250706T080000
DTEND;TZID=America/Chicago:20250706T110000
DTSTAMP:20260423T133234
CREATED:20250703T011403Z
LAST-MODIFIED:20250705T212334Z
UID:454-1751788800-1751799600@brackenridgepark.org
SUMMARY:POSTPONED - Volunteer Day - Litter Cleanup
DESCRIPTION:THIS EVENT IS POSTPONED DUE TO FLOODING IN THE HILL COUNTRY AND THE LOSS OF LIFE OF SO MANY. OUR THOUGHTS ARE WITH THE VICTIMS AND THOSE AWAITING NEWS OF THEIR LOVED ONES. \n  \nJoin us for a litter cleanup to protect people\, plants\, and wildlife. \nAll materials will be provided. \nWear comfy clothes and shoes\, and bring a refillable water bottle.  \nRegister to attend: https://sanantonio.galaxydigital.com/need/detail/?need_id=1110119 \nWhere:  \nBrackenridge Park \nMeet at Joske Pavilion \n531 Brackenridge Way
URL:https://brackenridgepark.org/event/volunteer-day-litter-cleanup/
LOCATION:Joske Pavilion\, 531 Brackenridge Way\, SAN ANTONIO\, TX\, 78212\, United States
ATTACH;FMTTYPE=image/png:https://brackenridgepark.org/wp-content/uploads/2025/06/volunteer-day.png
END:VEVENT
END:VCALENDAR