BEGIN:VCALENDAR
VERSION:2.0
PRODID:-//Brackenridge Park Conservancy - ECPv6.15.20//NONSGML v1.0//EN
CALSCALE:GREGORIAN
METHOD:PUBLISH
X-WR-CALNAME:Brackenridge Park Conservancy
X-ORIGINAL-URL:https://brackenridgepark.org
X-WR-CALDESC:Events for Brackenridge Park Conservancy
REFRESH-INTERVAL;VALUE=DURATION:PT1H
X-Robots-Tag:noindex
X-PUBLISHED-TTL:PT1H
BEGIN:VTIMEZONE
TZID:America/Chicago
BEGIN:DAYLIGHT
TZOFFSETFROM:-0600
TZOFFSETTO:-0500
TZNAME:CDT
DTSTART:20240310T080000
END:DAYLIGHT
BEGIN:STANDARD
TZOFFSETFROM:-0500
TZOFFSETTO:-0600
TZNAME:CST
DTSTART:20241103T070000
END:STANDARD
BEGIN:DAYLIGHT
TZOFFSETFROM:-0600
TZOFFSETTO:-0500
TZNAME:CDT
DTSTART:20250309T080000
END:DAYLIGHT
BEGIN:STANDARD
TZOFFSETFROM:-0500
TZOFFSETTO:-0600
TZNAME:CST
DTSTART:20251102T070000
END:STANDARD
BEGIN:DAYLIGHT
TZOFFSETFROM:-0600
TZOFFSETTO:-0500
TZNAME:CDT
DTSTART:20260308T080000
END:DAYLIGHT
BEGIN:STANDARD
TZOFFSETFROM:-0500
TZOFFSETTO:-0600
TZNAME:CST
DTSTART:20261101T070000
END:STANDARD
END:VTIMEZONE
BEGIN:VEVENT
DTSTART;TZID=America/Chicago:20251207T050000
DTEND;TZID=America/Chicago:20251207T110000
DTSTAMP:20260423T071528
CREATED:20251120T214619Z
LAST-MODIFIED:20251203T155841Z
UID:996-1765083600-1765105200@brackenridgepark.org
SUMMARY:Volunteer Event - 2025 San Antonio Marathon
DESCRIPTION:A brand-new destination running experience\, the San Antonio Marathon is crafted to celebrate the spirit and heritage of San Antonio—where every step tells a story. Rooted in the vibrant culture and community\, this world-class event is brought to life through a collaboration between San Antonio Sports\, the City of San Antonio\, Visit San Antonio\, Centro\, and Olympic gold medalist-turned-marathon champion Meb Keflezighi. \nJoin the Brackenridge Park Conservancy on Sunday\, December 7th at our office at 2611 Broadway as we manage Water Station #6 for the first ever San Antonio Marathon! Volunteers will choose between 2 shifts (5am-8am and 7am-11am) to help set up the water station and prepare the water\, and then hand out water and electrolytes to runners as they pass by! Fun outfits and family-friendly costumes are encouraged! \nRegister at the link below to help make this event a success! \nhttps://connect.sanantoniosports.org/event/697288-2025%2BSan%2BAntonio%2BMarathon%2BWater%2BStation%2B%25236%2BVolunteers?pkey=a545740ea9f1e603c9994b34fcea2bdc
URL:https://brackenridgepark.org/event/volunteer-event-2025-san-antonio-marathon/
LOCATION:BPC Main Office\, 2611 Broadway\, San Antonio\, TX\, 78215\, United States
ATTACH;FMTTYPE=image/jpeg:https://brackenridgepark.org/wp-content/uploads/2025/11/SAMarathonLogo1.jpg
END:VEVENT
END:VCALENDAR