BEGIN:VCALENDAR
VERSION:2.0
PRODID:-//Brackenridge Park Conservancy - ECPv6.15.20//NONSGML v1.0//EN
CALSCALE:GREGORIAN
METHOD:PUBLISH
X-WR-CALNAME:Brackenridge Park Conservancy
X-ORIGINAL-URL:https://brackenridgepark.org
X-WR-CALDESC:Events for Brackenridge Park Conservancy
REFRESH-INTERVAL;VALUE=DURATION:PT1H
X-Robots-Tag:noindex
X-PUBLISHED-TTL:PT1H
BEGIN:VTIMEZONE
TZID:America/Chicago
BEGIN:DAYLIGHT
TZOFFSETFROM:-0600
TZOFFSETTO:-0500
TZNAME:CDT
DTSTART:20240310T080000
END:DAYLIGHT
BEGIN:STANDARD
TZOFFSETFROM:-0500
TZOFFSETTO:-0600
TZNAME:CST
DTSTART:20241103T070000
END:STANDARD
BEGIN:DAYLIGHT
TZOFFSETFROM:-0600
TZOFFSETTO:-0500
TZNAME:CDT
DTSTART:20250309T080000
END:DAYLIGHT
BEGIN:STANDARD
TZOFFSETFROM:-0500
TZOFFSETTO:-0600
TZNAME:CST
DTSTART:20251102T070000
END:STANDARD
BEGIN:DAYLIGHT
TZOFFSETFROM:-0600
TZOFFSETTO:-0500
TZNAME:CDT
DTSTART:20260308T080000
END:DAYLIGHT
BEGIN:STANDARD
TZOFFSETFROM:-0500
TZOFFSETTO:-0600
TZNAME:CST
DTSTART:20261101T070000
END:STANDARD
END:VTIMEZONE
BEGIN:VEVENT
DTSTART;TZID=America/Chicago:20251220T120000
DTEND;TZID=America/Chicago:20251220T170000
DTSTAMP:20260421T031820
CREATED:20251126T211041Z
LAST-MODIFIED:20251126T211041Z
UID:1025-1766232000-1766250000@brackenridgepark.org
SUMMARY:Winter in the Park: Holiday Market & Art walk
DESCRIPTION:Brackenridge Park Conservancy + Grace Hamilton Pottery Present Winter in the Park: A Holiday Market & Art Walk\, Saturday\, December 20 from 12–5 PM at the Joske Pavilion! \nCelebrate the season with an afternoon of art\, shopping\, and community in the heart of Brackenridge Park. Check back for featured artists\, makers\, and food options as we get closer to the event. \nCome enjoy the park\, soak in the festive atmosphere\, and get your last-minute holiday shopping done—all while supporting San Antonio’s creative community.
URL:https://brackenridgepark.org/event/winter-in-the-park-holiday-market-art-walk/
LOCATION:Joske Pavilion\, 531 Brackenridge Way\, SAN ANTONIO\, TX\, 78212\, United States
ATTACH;FMTTYPE=image/jpeg:https://brackenridgepark.org/wp-content/uploads/2025/07/joske-pavillion-5385-scaled.jpg
END:VEVENT
END:VCALENDAR